BEGIN:VCALENDAR
VERSION:2.0
PRODID:-//wp-events-plugin.com//7.2.3.1//EN
TZID:Europe/Berlin
X-WR-TIMEZONE:Europe/Berlin
BEGIN:VEVENT
UID:255@aob-ev.de
DTSTART;TZID=Europe/Berlin:20190317T110000
DTEND;TZID=Europe/Berlin:20190317T131500
DTSTAMP:20190309T053346Z
URL:https://www.aob-ev.de/events/fruehjahrskonzert-des-aob-e-v/
SUMMARY:Frühjahrskonzert 2019 des AOB e.V.
DESCRIPTION:Matineekonzert des AOB mit Filmmusik im Konzerthaus am Gendarme
 nmarkt - Programm: Musik von John Williams\, John Barry\, Ralf Wengenmayr\
 , Georges Delerue u.a.- Musikalische Leitung: Robert Farkas
CATEGORIES:Frühjahrskonzert,Konzerte,Konzerthaus
LOCATION:Konzerthaus Berlin\, Gendarmenmarkt\, Berlin\, Berlin\, 10117\, De
 utschland
GEO:52.5138276;13.392349500000023
X-APPLE-STRUCTURED-LOCATION;VALUE=URI;X-ADDRESS=Gendarmenmarkt\, Berlin\, B
 erlin\, 10117\, Deutschland;X-APPLE-RADIUS=100;X-TITLE=Konzerthaus Berlin:
 geo:52.5138276,13.392349500000023
END:VEVENT
BEGIN:VTIMEZONE
TZID:Europe/Berlin
X-LIC-LOCATION:Europe/Berlin
BEGIN:STANDARD
DTSTART:20181028T020000
TZOFFSETFROM:+0200
TZOFFSETTO:+0100
TZNAME:CET
END:STANDARD
END:VTIMEZONE
END:VCALENDAR