BEGIN:VCALENDAR
VERSION:2.0
PRODID:-//wp-events-plugin.com//7.2.3.1//EN
TZID:Europe/Berlin
X-WR-TIMEZONE:Europe/Berlin
BEGIN:VEVENT
UID:297@aob-ev.de
DTSTART;TZID=Europe/Berlin:20190519T160000
DTEND;TZID=Europe/Berlin:20190519T160000
DTSTAMP:20190328T142929Z
URL:https://www.aob-ev.de/events/fruehlingskonzert-2019-des-aob-e-v/
SUMMARY:Frühlingskonzert 2019 des AOB e.V.
DESCRIPTION:L.v. Beethoven Egmont Ouvertüre (AOB) - R. Schumann Sinfonie N
 r. 4 (AOB) - P.I. Tschaikowsky Sinfonie Sinfonie Nr.6 "Pathetique" (AOV) -
  Gemeinschaftskonzert mit dem Akademischen Orchesterverein Wien (AOV) - Ak
 ademisches Orchester Berlin e.V. - Musikalische Leitung: Peter Aderhold (A
 OB) - Musikalische Leitung: Christian Birnbaum (AOV)
CATEGORIES:Konzerte,Philharmonie,Sommerkonzert
LOCATION:Philharmonie Berlin\, Herbert-von-Karajan-Str. 1\, Berlin\, Berlin
 \, 10785\, Deutschland
GEO:52.5096523;13.369481599999972
X-APPLE-STRUCTURED-LOCATION;VALUE=URI;X-ADDRESS=Herbert-von-Karajan-Str. 1\
 , Berlin\, Berlin\, 10785\, Deutschland;X-APPLE-RADIUS=100;X-TITLE=Philhar
 monie Berlin:geo:52.5096523,13.369481599999972
END:VEVENT
BEGIN:VTIMEZONE
TZID:Europe/Berlin
X-LIC-LOCATION:Europe/Berlin
BEGIN:DAYLIGHT
DTSTART:20190331T030000
TZOFFSETFROM:+0100
TZOFFSETTO:+0200
TZNAME:CEST
END:DAYLIGHT
END:VTIMEZONE
END:VCALENDAR