BEGIN:VCALENDAR
VERSION:2.0
PRODID:-//wp-events-plugin.com//7.2.3.1//EN
TZID:Europe/Berlin
X-WR-TIMEZONE:Europe/Berlin
BEGIN:VEVENT
UID:296@aob-ev.de
DTSTART;TZID=Europe/Berlin:20190316T143000
DTEND;TZID=Europe/Berlin:20190316T173000
DTSTAMP:20190308T104915Z
URL:https://www.aob-ev.de/events/generalprobe-fruehjahrskonzert-2019/
SUMMARY:Generalprobe Frühjahrskonzert 2019
DESCRIPTION:Wer: tutti - Was: Konzertprogramm\n\n13:00-14:30 Aufbau\n\n14:3
 0-17:30 Probe
CATEGORIES:Frühjahr,Probe
LOCATION:Konzerthaus Berlin\, Gendarmenmarkt\, Berlin\, Berlin\, 10117\, De
 utschland
GEO:52.5138276;13.392349500000023
X-APPLE-STRUCTURED-LOCATION;VALUE=URI;X-ADDRESS=Gendarmenmarkt\, Berlin\, B
 erlin\, 10117\, Deutschland;X-APPLE-RADIUS=100;X-TITLE=Konzerthaus Berlin:
 geo:52.5138276,13.392349500000023
END:VEVENT
BEGIN:VTIMEZONE
TZID:Europe/Berlin
X-LIC-LOCATION:Europe/Berlin
BEGIN:STANDARD
DTSTART:20181028T020000
TZOFFSETFROM:+0200
TZOFFSETTO:+0100
TZNAME:CET
END:STANDARD
END:VTIMEZONE
END:VCALENDAR