BEGIN:VCALENDAR
VERSION:2.0
PRODID:-//wp-events-plugin.com//7.2.3.1//EN
TZID:Europe/Berlin
X-WR-TIMEZONE:Europe/Berlin
BEGIN:VEVENT
UID:120@aob-ev.de
DTSTART;TZID=Europe/Berlin:20160504T193000
DTEND;TZID=Europe/Berlin:20160504T210000
DTSTAMP:20160224T231421Z
URL:https://www.aob-ev.de/events/proben-sommerkonzert-2016-2016-05-04/
SUMMARY:Probe für Gemona 2016
DESCRIPTION:Wer: (Sr-2222-2200-1) - Was: (Konzertprogramm Gemona) / Transpo
 rter beladen\n\n\n 
CATEGORIES:Konzertreise/anderer Veranstalter,Probe,Sommer
LOCATION:Dunant-Grundschule\, Gritznerstr. 19-23\, Berlin\, Berlin\, 12163\
 , Deutschland
GEO:52.46486;13.31818
X-APPLE-STRUCTURED-LOCATION;VALUE=URI;X-ADDRESS=Gritznerstr. 19-23\, Berlin
 \, Berlin\, 12163\, Deutschland;X-APPLE-RADIUS=100;X-TITLE=Dunant-Grundsch
 ule:geo:52.46486,13.31818
END:VEVENT
BEGIN:VTIMEZONE
TZID:Europe/Berlin
X-LIC-LOCATION:Europe/Berlin
BEGIN:DAYLIGHT
DTSTART:20160327T030000
TZOFFSETFROM:+0100
TZOFFSETTO:+0200
TZNAME:CEST
END:DAYLIGHT
END:VTIMEZONE
END:VCALENDAR