BEGIN:VCALENDAR
VERSION:2.0
PRODID:-//wp-events-plugin.com//7.2.3.1//EN
TZID:Europe/Berlin
X-WR-TIMEZONE:Europe/Berlin
BEGIN:VEVENT
UID:109@aob-ev.de
DTSTART;TZID=Europe/Berlin:20160228T110000
DTEND;TZID=Europe/Berlin:20160228T170000
DTSTAMP:20160224T224848Z
URL:https://www.aob-ev.de/events/proben-we-fruehjahrskonzert-2016-2/
SUMMARY:Proben-WE Frühjahrskonzert 2016
DESCRIPTION:PULTE MITBRINGEN!! ACHTUNG: GEÄNDERTE ANFANGSZEIT! Wer: tutti 
 - Was: 11:00-12:00 Weber mit Solist - 13:00-15:00 Beethoven - 15:00-17:00 
 Schumann\n
CATEGORIES:Frühjahr,Probe
LOCATION:Hermann-von-Helmholtz-Schule\, Wutzkyallee 68-78\, Berlin\, Berlin
 \, 12353\, Deutschland
GEO:52.421822;13.472973
X-APPLE-STRUCTURED-LOCATION;VALUE=URI;X-ADDRESS=Wutzkyallee 68-78\, Berlin\
 , Berlin\, 12353\, Deutschland;X-APPLE-RADIUS=100;X-TITLE=Hermann-von-Helm
 holtz-Schule:geo:52.421822,13.472973
END:VEVENT
BEGIN:VTIMEZONE
TZID:Europe/Berlin
X-LIC-LOCATION:Europe/Berlin
BEGIN:STANDARD
DTSTART:20151025T020000
TZOFFSETFROM:+0200
TZOFFSETTO:+0100
TZNAME:CET
END:STANDARD
END:VTIMEZONE
END:VCALENDAR