BEGIN:VCALENDAR
VERSION:2.0
PRODID:-//wp-events-plugin.com//7.2.3.1//EN
TZID:Europe/Berlin
X-WR-TIMEZONE:Europe/Berlin
BEGIN:VEVENT
UID:640@aob-ev.de
DTSTART;TZID=Europe/Berlin:20251109T100000
DTEND;TZID=Europe/Berlin:20251109T160000
DTSTAMP:20251104T071722Z
URL:https://www.aob-ev.de/events/proben-we-fuer-herbstkonzert-2025-2/
SUMMARY:Proben-WE für Herbstkonzert 2025
DESCRIPTION:NOTENSTÄNDER MITBRINGEN!!!\n\n10:00-10:45 Mozart Streicher\n\n
 10:45-11:15 Mozart 2. Satz Tutti\n\n11:15-11:40 Mozart 3. Satz Tutti\n\n11
 :40-12:00 Pause\n\n12:00-13:00 Mozart Tutti im Ablauf\n\n13:00-14:00 Mitta
 gspause\n\n14:00-15:00 Mozart Korrekturen\n\n15:00-16:00 Elgar
CATEGORIES:Herbst,Probe
LOCATION:Nelson-Mandela-Schule (Secondary) - Hausnummer 30\, Pfalzburger St
 r. 30\, Berlin\, Berlin\, 10717\, Deutschland
GEO:52.490936;13.321107
X-APPLE-STRUCTURED-LOCATION;VALUE=URI;X-ADDRESS=Pfalzburger Str. 30\, Berli
 n\, Berlin\, 10717\, Deutschland;X-APPLE-RADIUS=100;X-TITLE=Nelson-Mandela
 -Schule (Secondary) - Hausnummer 30:geo:52.490936,13.321107
END:VEVENT
BEGIN:VTIMEZONE
TZID:Europe/Berlin
X-LIC-LOCATION:Europe/Berlin
BEGIN:STANDARD
DTSTART:20251026T020000
TZOFFSETFROM:+0200
TZOFFSETTO:+0100
TZNAME:CET
END:STANDARD
END:VTIMEZONE
END:VCALENDAR